BEGIN:VCALENDAR
VERSION:2.0
PRODID:-//STEI - ECPv6.15.20//NONSGML v1.0//EN
CALSCALE:GREGORIAN
METHOD:PUBLISH
X-ORIGINAL-URL:https://stei.itb.ac.id
X-WR-CALDESC:Events for STEI
REFRESH-INTERVAL;VALUE=DURATION:PT1H
X-Robots-Tag:noindex
X-PUBLISHED-TTL:PT1H
BEGIN:VTIMEZONE
TZID:Asia/Jakarta
BEGIN:STANDARD
TZOFFSETFROM:+0700
TZOFFSETTO:+0700
TZNAME:WIB
DTSTART:20240101T000000
END:STANDARD
END:VTIMEZONE
BEGIN:VEVENT
DTSTART;TZID=Asia/Jakarta:20251103T080000
DTEND;TZID=Asia/Jakarta:20251106T170000
DTSTAMP:20260422T235058
CREATED:20250729T013331Z
LAST-MODIFIED:20250729T030500Z
UID:25540-1762156800-1762448400@stei.itb.ac.id
SUMMARY:Call for Papers: ICHVEPS 2025
DESCRIPTION:[vc_row][vc_column][vc_column_text css=””] \n\nThe 5th International Conference on High Voltage Engineering and Power Systems (ICHVEPS 2025) \n📅 Date: November 3–6\, 2025📍 Venue: Prama Sanur Beach Hotel\, Bali\, Indonesia \nThe School of Electrical Engineering and Informatics (STEI ITB) proudly presents ICHVEPS 2025\, an international forum dedicated to exchanging knowledge and the latest advancements in High Voltage Engineering and Power Systems. \nThis conference invites researchers\, professionals\, industry experts\, and students to submit and present their work in the following key areas: \n• High Voltage Engineering\n• Power Systems\n• Energy Conversion & Power Electronics \nMain Topics include:• High Voltage Measurement\, Diagnosis\, and Insulation Systems• Smart Grid and Microgrid Technologies• Power System Planning\, Operation\, and Asset Management• Renewable Energy\, Electric Vehicles\, Charging Stations\, and Power Quality \nImportant Dates:• Abstract Submission Deadline: May 20\, 2025 (Extended)• Abstract Acceptance Notification: May 23\, 2025• Full Paper Submission: Until August 4\, 2025 (Extended)• Full Paper Acceptance Notification: September 1\, 2025• Early Bird Registration: Until September 30\, 2025• Final Registration: October 24\, 2025• Conference Days: November 3–6\, 2025 \n🔗 More information and submission details:https://www.powerconf.org/detail-conference/ichveps2025 \n📱 Contact:• Paper Submission & Event: +62 821-1422-0465 (Rachma)• Registration: +62 813-2165-0952 (Adis)• Sponsorship & Exhibition: +62 815-6180-471 (Mistriana)• Email: ichveps@itb.ac.id | ichveps.itb@gmail.com \nOrganized by:ITB & STEI ITB \nSupported by:PT. PLN (Persero) \nTechnically Sponsored by:IEEE PELS Indonesia Chapter\, IEEE Indonesia Section\, IEEE PES Indonesia Chapter \n\n[/vc_column_text][/vc_column][/vc_row]
URL:https://stei.itb.ac.id/event/call-for-papers-ichveps-2025/
END:VEVENT
BEGIN:VEVENT
DTSTART;TZID=Asia/Jakarta:20251113T080000
DTEND;TZID=Asia/Jakarta:20251115T170000
DTSTAMP:20260422T235058
CREATED:20250529T020637Z
LAST-MODIFIED:20250808T013705Z
UID:24731-1763020800-1763226000@stei.itb.ac.id
SUMMARY:Call for Papers – ICEEI 2025
DESCRIPTION:[vc_row css=”.vc_custom_1748484394856{margin-bottom: 30px !important;}”][vc_column][vc_column_text]📢 Call for Papers – ICEEI 2025\n10th International Conference on Electrical Engineering and Informatics\n📅 13–15 November 2025\n📍 Kuching\, Sarawak\, Malaysia\n🌐 Website: https://ftsm.ukm.my/iceei2025/ \nThe Faculty of Information Science and Technology (FTSM)\, Universiti Kebangsaan Malaysia (UKM)\, in collaboration with the Institut Teknologi Bandung\, Indonesia\, is pleased to announce the 10th International Conference on Electrical Engineering and Informatics (ICEEI 2025). This conference aims to provide a platform for researchers\, engineers\, academicians\, and industry professionals to share their research findings and innovations in the fields of electrical engineering and informatics. \n📚 Conference Topics\nICEEI 2025 invites original and unpublished papers on\, but not limited to\, the following topics: \nElectrical Engineering: Power Systems\, Renewable Energy\, Smart Grids\, Electrical Machines\, Power Electronics\, Biomedical Engineering\, Remote sensing and Geospatial Engineering\, RF and Satellite System\, Embedded Systems\, Sensors and Actuators\, Control Systems\, Robotics \nInformatics: Cyber Security\, Artificial Intelligence Technology\, Machine Learning\, Data Science\, Software Engineering\, Information Systems\, Wireless Communications\, Network Security\, Internet of Things (IoT)\, 5G/6G Technologies\, Computer Architecture\, Parallel and Distributed Computing\, Cloud Computing\, Cybersecurity \n📝 Paper Submission\nSubmission Deadline: 30 June 2025 \nNotification of Acceptance: From 1 July 2025\nCamera-Ready Submission: [Insert Date]\nCamera-ready Due 1 August 2025\nEarly-bird Registration Due: 15 August 2025\nRegistration Deadline: 30 August 2025\nConference: 13-15 November 2025\nSubmission Link: https://easychair.org/account2/signin_timeout?l=1589957741911772706 \nAll submissions must be in English and will undergo a double-blind peer-review process. Accepted papers will be published in the conference proceedings and submitted for inclusion in IEEE Xplore\, and based on high review scores\, 50 extended papers will be selected for publication in the following SCOPUS-indexed journals:\nAsia-Pacific Journal of Information Technology and Multimedia (APJITM)\nJournal of Engineering and Technological Sciences (JETS)[/vc_column_text][/vc_column][/vc_row][vc_row][vc_column][vc_single_image image=”25886″ img_size=”Large” alignment=”center” css=””][/vc_column][/vc_row]
URL:https://stei.itb.ac.id/event/call-for-papers-iceei-2025/
END:VEVENT
BEGIN:VEVENT
DTSTART;TZID=Asia/Jakarta:20251117T130000
DTEND;TZID=Asia/Jakarta:20251117T150000
DTSTAMP:20260422T235058
CREATED:20251114T074357Z
LAST-MODIFIED:20251114T080342Z
UID:26889-1763384400-1763391600@stei.itb.ac.id
SUMMARY:Cyber Security Studium General: Three Faces of AI in Cybersecurity – Attacker\, Defender\, Victim
DESCRIPTION:[vc_row css=”.vc_custom_1763106253936{margin-bottom: 30px !important;}”][vc_column width=”1/2″][vc_single_image image=”26890″ img_size=”Large” alignment=”center” css=””][/vc_column][vc_column width=”1/2″][vc_column_text css=””] \nSTEI ITB mengundang seluruh mahasiswa\, dosen\, dan praktisi untuk hadir dalam Cyber Security Studium General bertema: \n“Three Faces of AI in Cybersecurity: Attacker\, Defender\, Victim”\nAcara ini akan membahas bagaimana teknologi AI berperan dalam dunia keamanan siber—mulai dari menjadi pelaku serangan\, sistem pertahanan\, hingga objek yang dapat diserang. Sesi ini menghadirkan: \n🔹 Speaker:Alexey LukatskyManaging Director & Cybersecurity Consultant\, Positive Technologies \n🔹 Moderator:Yudistira Dwi W. Asnar\, S.T.\, Ph.D. \n📅 Tanggal: Senin\, 17 November 2025⏰ Waktu: 13.00 – 15.00 WIB📍 Tempat: R. 9133\, GKU Barat – ITB Ganesha \n🎟️ Registrasi Offline (100 kursi): https://goitb.id/CyberSecurity🔗 Zoom: https://goitb.id/sgcyberMeeting ID: 989 4919 4937Passcode: 834221 \n▶️ Streaming YouTube: https://goitb.id/streaming \nJangan lewatkan kesempatan untuk memahami perkembangan terbaru AI dan ancamannya dalam dunia cybersecurity bersama ahlinya! \n[/vc_column_text][/vc_column][/vc_row]
URL:https://stei.itb.ac.id/event/cyber-security-studium-general-three-faces-of-ai-in-cybersecurity-attacker-defender-victim/
END:VEVENT
END:VCALENDAR