BEGIN:VCALENDAR
VERSION:2.0
PRODID:-//STEI - ECPv6.15.20//NONSGML v1.0//EN
CALSCALE:GREGORIAN
METHOD:PUBLISH
X-WR-CALNAME:STEI
X-ORIGINAL-URL:https://stei.itb.ac.id
X-WR-CALDESC:Events for STEI
REFRESH-INTERVAL;VALUE=DURATION:PT1H
X-Robots-Tag:noindex
X-PUBLISHED-TTL:PT1H
BEGIN:VTIMEZONE
TZID:Asia/Jakarta
BEGIN:STANDARD
TZOFFSETFROM:+0700
TZOFFSETTO:+0700
TZNAME:WIB
DTSTART:20210101T000000
END:STANDARD
END:VTIMEZONE
BEGIN:VEVENT
DTSTART;TZID=Asia/Jakarta:20220325T090000
DTEND;TZID=Asia/Jakarta:20220325T100000
DTSTAMP:20260424T043912
CREATED:20220324T062910Z
LAST-MODIFIED:20220324T085819Z
UID:17842-1648198800-1648202400@stei.itb.ac.id
SUMMARY:BINAAR - SIR Modelling & Lyapunov Analysis for Covid 19
DESCRIPTION:BinAAR (Bincang Akademik\, Abdimas\, dan Riset) – SIR Modelling & Lyapunov Analysis for Covid 19 bersama Dr.Ir. Dimitri Mahayana\, M.Eng. \nModerator : Dr. Agung Dewanduru\, S.T.\, M.Sc. \nJumat\, 25 Maret 2022 \n09:00 – 10:00 WIB \nJoin Zoom Meeting : Klik Disini \nMeeting ID: 895 9408 6526\nPasscode: 955365
URL:https://stei.itb.ac.id/event/binaar-sir-modelling-lyapunov-analysis-for-covid-19/
ATTACH;FMTTYPE=image/png:https://stei.itb.ac.id/wp-content/uploads/BINAAR-SIR-Modelling-POST.png
END:VEVENT
BEGIN:VEVENT
DTSTART;TZID=Asia/Jakarta:20220329T090000
DTEND;TZID=Asia/Jakarta:20220329T110000
DTSTAMP:20260424T043912
CREATED:20220323T031730Z
LAST-MODIFIED:20220323T031730Z
UID:17834-1648544400-1648551600@stei.itb.ac.id
SUMMARY:Kuliah Umum Teknik Tenaga Listrik : EMC Technology for Reliable Green Smartgrid
DESCRIPTION:Kuliah Umum Teknik Tenaga Listrik : EMC Technology for Reliable Green Smartgrid bersama Prof. dr. ir. Ing. Frank B. J. Leferink dari University of Twente\, Netherlands \nSelasa\, 29 Maret 2022 \n09:00 – 11:00 WIB \nJoin Zoom Meeting : Klik Disini \nMeeting ID: 841 9577 9506\nPasscode: 560838
URL:https://stei.itb.ac.id/event/kuliah-umum-teknik-tenaga-listrik-emc-technology-for-reliable-green-smartgrid/
ATTACH;FMTTYPE=image/png:https://stei.itb.ac.id/wp-content/uploads/Web-Event-Banner.png
END:VEVENT
END:VCALENDAR