BEGIN:VCALENDAR
VERSION:2.0
PRODID:-//STEI - ECPv6.15.20//NONSGML v1.0//EN
CALSCALE:GREGORIAN
METHOD:PUBLISH
X-WR-CALNAME:STEI
X-ORIGINAL-URL:https://stei.itb.ac.id
X-WR-CALDESC:Events for STEI
REFRESH-INTERVAL;VALUE=DURATION:PT1H
X-Robots-Tag:noindex
X-PUBLISHED-TTL:PT1H
BEGIN:VTIMEZONE
TZID:Asia/Shanghai
BEGIN:STANDARD
TZOFFSETFROM:+0800
TZOFFSETTO:+0800
TZNAME:CST
DTSTART:20200101T000000
END:STANDARD
END:VTIMEZONE
BEGIN:VEVENT
DTSTART;VALUE=DATE:20210226
DTEND;VALUE=DATE:20210301
DTSTAMP:20260424T170548
CREATED:20210117T214937Z
LAST-MODIFIED:20210221T043254Z
UID:10261-1614297600-1614556799@stei.itb.ac.id
SUMMARY:Arkavidia 7.0
DESCRIPTION:Halo sobat IT! \nArkavidia 7.0 adalah acara prestisius tahunan yang diselenggarakan oleh Himpunan Mahasiswa Informatika Institut Teknologi Bandung (HMIF ITB). Bertemakan “Establishing Digital Independence\,” Arkavidia hadir untuk memberikan kesadaran bagi setiap individu akan hak dan kewajibannya di dunia digital\, sehingga mereka dapat mewujudkan kemerdekaan digital bagi dirinya. Dengan pengalaman lebih dari 6 tahun dan 2000 peserta\, Arkavidia berkembang lebih jauh lagi untuk memajukan pemahaman teknologi Indonesia. \nArkavidia 7.0 hadir dengan kompetisi-kompetisi yang menantang diantaranya:\n– Competitive Programming\n– Capture The Flag\n– Arkalogica\n– Datavidia\n– Arkavidia Game Jam  \nDan juga pre-event dan event yang menarik diantaranya: \nPre-events:\n– Technocamp\n– Arkavidia Goes To School\n– Arkavidia Academy\n– Arkavidia On Air  \nEvents:\n– IT Festival\n– Arkavidia Talks  \nPendaftaran kompetisi telah diperpanjang sampai tanggal 17 Januari 2021 untuk kompetisi selain Arkavidia Game Jam dan tanggal 5 Februari 2021 untuk Arkavidia Game Jam. Catat tanggalnya dan jangan lupa untuk daftarkan tim kamu di arkavidia.id! \nAyo berinovasi bersama kami dan dapatkan hadiah-hadiah yang menarik dari kami!
URL:https://stei.itb.ac.id/event/arkavidia-7-0/
CATEGORIES:Acara Mahasiswa,Lomba dan Workshop
ATTACH;FMTTYPE=image/jpeg:https://stei.itb.ac.id/wp-content/uploads/Arkavidia-2.jpg
END:VEVENT
END:VCALENDAR