BEGIN:VCALENDAR
VERSION:2.0
PRODID:-//STEI - ECPv6.15.20//NONSGML v1.0//EN
CALSCALE:GREGORIAN
METHOD:PUBLISH
X-WR-CALNAME:STEI
X-ORIGINAL-URL:https://stei.itb.ac.id
X-WR-CALDESC:Events for STEI
REFRESH-INTERVAL;VALUE=DURATION:PT1H
X-Robots-Tag:noindex
X-PUBLISHED-TTL:PT1H
BEGIN:VTIMEZONE
TZID:Asia/Jakarta
BEGIN:STANDARD
TZOFFSETFROM:+0700
TZOFFSETTO:+0700
TZNAME:WIB
DTSTART:20200101T000000
END:STANDARD
END:VTIMEZONE
BEGIN:VTIMEZONE
TZID:Asia/Shanghai
BEGIN:STANDARD
TZOFFSETFROM:+0800
TZOFFSETTO:+0800
TZNAME:CST
DTSTART:20200101T000000
END:STANDARD
END:VTIMEZONE
BEGIN:VTIMEZONE
TZID:UTC
BEGIN:STANDARD
TZOFFSETFROM:+0000
TZOFFSETTO:+0000
TZNAME:UTC
DTSTART:20200101T000000
END:STANDARD
END:VTIMEZONE
BEGIN:VEVENT
DTSTART;TZID=Asia/Jakarta:20260423T130000
DTEND;TZID=Asia/Jakarta:20260423T153000
DTSTAMP:20260425T002505
CREATED:20260422T131711Z
LAST-MODIFIED:20260422T131711Z
UID:29761-1776949200-1776958200@stei.itb.ac.id
SUMMARY:Kunjungan The University of Queensland
DESCRIPTION:
URL:https://stei.itb.ac.id/event/kunjungan-the-university-of-queensland/
CATEGORIES:Acara Institusi
END:VEVENT
BEGIN:VEVENT
DTSTART;TZID=Asia/Jakarta:20241002T090000
DTEND;TZID=Asia/Jakarta:20241002T120000
DTSTAMP:20260425T002505
CREATED:20240930T100303Z
LAST-MODIFIED:20240930T100320Z
UID:22170-1727859600-1727870400@stei.itb.ac.id
SUMMARY:WCU Seminar: Quantum Devices\, Technology\, and Information
DESCRIPTION:Kelompok Keilmuan Elektronika STEI ITB bekerja sama dengan Laboratorium Teknologi Kuantum STEI ITB dengan bangga mempersembahkan World Class University (WCU) Seminar bertema: \n“Quantum Devices\, Technology\, and Information” \n🗓 Hari/Tanggal: Rabu\, 2 Oktober 2024\n⏰ Waktu: 09:00 – 12:00 WIB (termasuk coffee break)\n📍 Tempat: Ruang Seminar Utama\, Gedung Perpustakaan Pusat ITB\, Lantai 1\, Jl. Ganesha No. 10\, Bandung \nPembicara:\n\nProf. Kwek Leong Chuan\nQuantum Science & Engineering Center\, NTU\, Singapura\nProf. Trio Adiono\, Ph.D.\nKelompok Keilmuan Elektronika\, STEI ITB\nProf. Andriyan B. Suksmono\, Ph.D.\nLaboratorium Teknologi Kuantum\, STEI ITB\n\nSeminar ini dirancang khusus bagi mahasiswa\, peneliti\, dan akademisi yang berkecimpung dalam bidang Teknik Elektro\, Telekomunikasi\, Informatika\, Fisika\, Matematika Terapan\, serta bidang-bidang terkait lainnya. \nKeuntungan bagi Peserta:\n\nSeminar gratis tanpa biaya\nSertifikat partisipasi\nFree snack & drink selama acara\nIlmu dari pakar internasional di bidang teknologi kuantum\n\nSeminar ini terbuka bagi 100 peserta yang akan hadir langsung (tatap muka).\n📌 Pendaftaran Wajib:\nKlik link berikut untuk mendaftar: tinyurl.com/vmzppekx \nJangan lewatkan kesempatan ini untuk menggali lebih dalam tentang teknologi masa depan!
URL:https://stei.itb.ac.id/event/wcu-seminar-quantum-devices-technology-and-information/
CATEGORIES:Acara Institusi
ATTACH;FMTTYPE=image/png:https://stei.itb.ac.id/wp-content/uploads/SeminarWCU-Thumbnail.png
END:VEVENT
BEGIN:VEVENT
DTSTART;TZID=Asia/Jakarta:20240923T150000
DTEND;TZID=Asia/Jakarta:20240923T170000
DTSTAMP:20260425T002505
CREATED:20240921T070439Z
LAST-MODIFIED:20240921T070439Z
UID:22142-1727103600-1727110800@stei.itb.ac.id
SUMMARY:General Lecture : Soft Robots with Origami Self-Folding Technology
DESCRIPTION:🌟 Invitation to a General Lecture 🌟 \nTitle: Soft Robots with Origami Self-Folding Technology\nSpeaker: Dr. Hiroki Shigemune\, Shibaura Institute of Technology\, Japan\nDate: Monday\, 23 September 2-24\nTime: 3:00 PM\nVenue: Room TVST A \nJoin us for an insightful lecture where Dr. Dr. Hiroki Shigemune from Shibaura Institute of Technology\, Japan will explore cutting-edge innovations in soft robotics\, specifically focusing on the fascinating world of origami self-folding technology. \nDon’t miss this opportunity to delve into the future of robotics and design! \nWe look forward to seeing you there!
URL:https://stei.itb.ac.id/event/general-lecture-soft-robots-with-origami-self-folding-technology/
CATEGORIES:Acara Institusi
ATTACH;FMTTYPE=image/jpeg:https://stei.itb.ac.id/wp-content/uploads/GeneralLectureOrigami-Thumbnail.jpg
END:VEVENT
BEGIN:VEVENT
DTSTART;TZID=Asia/Jakarta:20230731T150000
DTEND;TZID=Asia/Jakarta:20230731T163000
DTSTAMP:20260425T002505
CREATED:20230731T033547Z
LAST-MODIFIED:20230731T033644Z
UID:20597-1690815600-1690821000@stei.itb.ac.id
SUMMARY:Guest Lecturer : Aesthetic Assessment for Images by Machines - Prof Weisi Lin
DESCRIPTION:Guest Lecturer\nThemes : Aesthetic Assessment for Images by Machines \nLecturer : Prof Weisi Lin \nTime : Monday\, 31th July  | 15:00 – 16:30 \nPlace : Multimedia Elka\, Labtek VIII Lt.3 STEI ITB \nRegistration : https://s.id/APSIPAlecture
URL:https://stei.itb.ac.id/event/guest-lecturer-aesthetic-assessment-for-images-by-machines-prof-weisi-lin/
CATEGORIES:Acara Institusi
ATTACH;FMTTYPE=image/jpeg:https://stei.itb.ac.id/wp-content/uploads/Thumbnail-Guest-Lecturer-Prof-Weisi-Lin.jpg
END:VEVENT
BEGIN:VEVENT
DTSTART;TZID=Asia/Jakarta:20230623T090000
DTEND;TZID=Asia/Jakarta:20230623T100000
DTSTAMP:20260425T002505
CREATED:20230614T022941Z
LAST-MODIFIED:20230614T023858Z
UID:20189-1687510800-1687514400@stei.itb.ac.id
SUMMARY:BinAAR#3 – Aplikasi RFID untuk Penjagaan Lansia
DESCRIPTION:Terbuka Untuk Sivitas ITB !!!\nKegiatan BinAAR#3: Bincang Akademik\, Abdimas dan Riset STEI ITB di Tahun 2023 ~ Aplikasi RFID untuk Penjagaan Lansia \nNarasumber : Robithoh Annur\, ST.\, M.Sc.\, Ph.D (Dosen KK Informatika) \nModerator : Dr. Fetty Fitriyanti Lubis\, ST.\, MT.(Dosen KK Teknologi Informasi) \nJumat\, 23 Juni 2023 \n09.00 – 10.00 WIB
URL:https://stei.itb.ac.id/event/binaar3-aplikasi-rfid-untuk-penjagaan-lansia/
CATEGORIES:Acara Institusi,Acara Internal
ATTACH;FMTTYPE=image/jpeg:https://stei.itb.ac.id/wp-content/uploads/WEB_BINAAR3-03.jpg
END:VEVENT
BEGIN:VEVENT
DTSTART;TZID=Asia/Jakarta:20230606T080000
DTEND;TZID=Asia/Jakarta:20230608T170000
DTSTAMP:20260425T002505
CREATED:20230605T061344Z
LAST-MODIFIED:20230605T072726Z
UID:20138-1686038400-1686243600@stei.itb.ac.id
SUMMARY:Electrical Engineering Days 2023
DESCRIPTION:Electrical Engineering Days (EE Days) merupakan acara tahunan yang diselenggarakan oleh Program Studi Elektro ITB dan Himpunan Mahasiswa Elektro ITB (HME ITB) sebagai sarana komunikasi antara seluruh stakeholder yang terkait dengan pendidikan tinggi teknik\, khususnya Program Studi Teknik Elektro\, Institut Teknologi Bandung. \nAcara utama pada event EE Days adalah Seminar & Sidang Tugas Akhir dari Mahasiswa Sarjana Teknik Elektro yang direncanakan lulus pada tahun tersebut. Selain itu ada juga acara Pameran\, Presentasi dan Demonstrasi dari produk-produk Tugas Akhir dan Tesis dari Program Studi Teknik Elektro. \nUndangan dari industri dan instansi untuk berdiskusi\, baik dalam kaitan dengan Tugas Akhir sebagai Preliminary Research\, maupun dalam kaitan dengan Kerja Praktek dan Internship juga dilakukan untuk meningkatkan kualitas program sekaligus memberikan jalan bagi industri dan ITB untuk berkolaborasi. \nWaktu : 6 – 8 Juni 2023 \nLokasi : Aula Timur Kampus Ganesha ITB \nPada kegiatan ini ditampilkan karya-karya pengembangan terkini dari tugas akhir mahasiswa-mahasiswa Teknik Elektro ITB\, dengan judul: \n\n\n\n1\nRancang Bangun Potensiostat Dual-Channel Untuk Pembacaan Screen-Printed Electrode Ion Sensor Na+ dan K+ pada Penelitian Biosensor\n\n\n2\nSistem Penyortiran Paket Logistik\n\n\n3\nMonitoring Kadar Amonia Air pada Tambak Ikan Nila\n\n\n4\nPengembangan Real-Time Monitoring System untuk Mengetahui Analisis Risiko dan Kondisi dari Mesin Pencampur di Pabrik\n\n\n5\nPemantauan Aktivitas dan Lokasi Ruangan bagi Orang dengan Dementia\n\n\n6\nPerangkat Wearable Untuk Monitor Detak Jantung Pesepeda\n\n\n7\nPerancangan Alat Ukur Elektrokimia untuk Pendeteksian Biomarker Troponin I\n\n\n8\nSistem Pendeteksi Sampah Plastik di Perairan Sungai Cikapundung\n\n\n9\nPortable Testing Platform for Uric Acid Biosensor\n\n\n10\nPerancangan Rooftop Solar Cell Energy Monitoring System\n\n\n11\nSistem Pengelolaan TPSS di Kampus ITB Ganesha\n\n\n12\nIntegrated Software – Hardware Warehouse Management System\n\n\n13\nSistem Deteksi Dini Penyakit Menular Bergejala Demam di Area Kampus ITB\n\n\n14\nPerancangan Pengendali Lampu Lalu Lintas Adaptif dan Koordinatif 2 Simpang Berdekatan\n\n\n15\nPerancangan Alat Infus Otomatis dengan Sistem Kendali dan Pemantauan Jarak jauh\n\n\n16\nRancang Bangun Sistem Localization dan Mapping untuk Pengembangan Trem Otonom di Indonesia\n\n\n17\nPerancangan dan Implementasi Sistem Access Control Berbasis BLE\n\n\n18\nSistem Monitoring Kualitas Udara di Luar Ruangan Berbasis Multi Sensor\n\n\n19\nSistem Pengendali dan Monitoring Iklim Mikro untuk Ruang Tumbuh Tanaman\n\n\n20\nPerancangan Perangkat Patient Monitor dengan Akses Jarak Jauh pada Ruang ICU Rumah Sakit\n\n\n21\nSistem Pendeteksi Nafsu Makan Ikan Otomatis\n\n\n22\nProyek Perancangan Alat Pemberi Pakan Ikan Otomatis Untuk Mengurangi Pakan Ikan yang Terbuang Sia – sia\n\n\n\nAcara ini didukung oleh : \n\nInfineon Technologies.\nIAE ITB.
URL:https://stei.itb.ac.id/event/electrical-engineering-days-2023/
CATEGORIES:Acara Institusi,Acara Mahasiswa
ATTACH;FMTTYPE=image/jpeg:https://stei.itb.ac.id/wp-content/uploads/BANNER-WEB_POSTER_EE-DAY_2023-03.jpg
END:VEVENT
BEGIN:VEVENT
DTSTART;TZID=Asia/Jakarta:20220620T100000
DTEND;TZID=Asia/Jakarta:20220620T120000
DTSTAMP:20260425T002505
CREATED:20220616T063428Z
LAST-MODIFIED:20220616T063554Z
UID:18141-1655719200-1655726400@stei.itb.ac.id
SUMMARY:CAD-IT IoT Centre Goes to Campus: Be a part of Industry 4.0 & Digital Transformation!
DESCRIPTION:CAD-IT IoT Centre proudly present: \n  \n \n  \nWe will share knowledge and experiences of working in the Industry 4.0 field. There will be lots of fun and insighftul topics from the alumni! \nDon’t miss it and save the date:\nDate: Monday\, June 20\, 2022\nTime: 10.00 -12.00 WIB\nVenue: R. 7602\, Labtek V Building 3rd Floor\, STEI ITB\n*Hybrid (available offline and online) \nNote: Google Meet link will be available for participants who can’t attend physically \nThere will be a free e-certificate for every participant.\nSo what are you waiting for? Register now! \nSee you! \n 
URL:https://stei.itb.ac.id/event/cad-it-iot-centre-goes-to-campus-be-a-part-of-industry-4-0-digital-transformation/
CATEGORIES:Acara Institusi,Acara Mitra
ATTACH;FMTTYPE=image/jpeg:https://stei.itb.ac.id/wp-content/uploads/Banner-CADIT-Goes-to-Campus.jpg
END:VEVENT
BEGIN:VEVENT
DTSTART;TZID=Asia/Jakarta:20220614T080000
DTEND;TZID=Asia/Jakarta:20220616T160000
DTSTAMP:20260425T002505
CREATED:20220613T010738Z
LAST-MODIFIED:20220721T062841Z
UID:18116-1655193600-1655395200@stei.itb.ac.id
SUMMARY:Electrical Engineering Days 2022
DESCRIPTION:Electrical Engineering Days (EE Days) merupakan acara tahunan yang diselenggarakan oleh Program Studi Elektro ITB dan Himpunan Mahasiswa Elektro ITB (HME ITB) sebagai sarana komunikasi antara seluruh stakeholder yang terkait dengan pendidikan tinggi teknik\, khususnya Program Studi Teknik Elektro\, Institut Teknologi Bandung. \nAcara utama pada event EE Days adalah Seminar & Sidang Tugas Akhir dari Mahasiswa Sarjana Teknik Elektro yang direncanakan lulus pada tahun tersebut. Selain itu ada juga acara Pameran\, Presentasi dan Demonstrasi dari produk-produk Tugas Akhir dan Tesis dari Program Studi Teknik Elektro. \nUndangan dari industri dan instansi untuk berdiskusi\, baik dalam kaitan dengan Tugas Akhir sebagai Preliminary Research\, maupun dalam kaitan dengan Kerja Praktek dan Internship juga dilakukan untuk meningkatkan kualitas program sekaligus memberikan jalan bagi industri dan ITB untuk berkolaborasi. \nWaktu : 14 – 16 Juni 2022\, 08.00 – 16.00 WIB \nLokasi : Aula Timur ITB \nProgram :  \nUntuk informasi lebih lanjut\, kunjungi Site EE Days 2022
URL:https://stei.itb.ac.id/event/electrical-engineering-days-2022/
CATEGORIES:Acara Institusi,Acara Mahasiswa
ATTACH;FMTTYPE=image/jpeg:https://stei.itb.ac.id/wp-content/uploads/Web-Event-Banner-2.jpg
END:VEVENT
BEGIN:VEVENT
DTSTART;TZID=Asia/Jakarta:20220610T093000
DTEND;TZID=Asia/Jakarta:20220610T113000
DTSTAMP:20260425T002505
CREATED:20220531T073053Z
LAST-MODIFIED:20220531T085001Z
UID:18051-1654853400-1654860600@stei.itb.ac.id
SUMMARY:The Future of AI Technology\, From Hype to Business
DESCRIPTION:The Future of AI Technology\, From Hype to Business\nBersama : Dr. Ir. Tutun Juhana\, ST.\,MT. sebagai Dekan STEI ITB \nNarasumber : Eric Purwoko dan Matthew Taruno dari Solutions Architect Alibaba Cloud Indonesia \nJumat\, 10 Juni 2022 \n09:30 – 11:30 WIB \nDaftar sekarang di : https://bit.ly/alicloud-future-ai
URL:https://stei.itb.ac.id/event/the-future-of-ai-technology-from-hype-to-business/
CATEGORIES:Acara Institusi
ATTACH;FMTTYPE=image/jpeg:https://stei.itb.ac.id/wp-content/uploads/a6997db7-b40d-4ad8-aab6-e03783f57d35.jpg
END:VEVENT
BEGIN:VEVENT
DTSTART;VALUE=DATE:20220603
DTEND;VALUE=DATE:20220606
DTSTAMP:20260425T002505
CREATED:20220602T155219Z
LAST-MODIFIED:20220602T155742Z
UID:18054-1654214400-1654473599@stei.itb.ac.id
SUMMARY:Open House Tematik\, Program Studi Teknik Tenaga Listrik "Dari ITB untuk Indonesia"
DESCRIPTION:Open House Tematik\, Program Studi Teknik Tenaga Listrik “Dari ITB untuk Indonesia”\n\nJumat\, 03 Juni 2022 | 14:20 WIB\n\nMateri : KECERDASAN BUATAN/ARTIFICIAL INTELLIGENCE | Sistem Cerdas Berbasis Energi Terbarukan untuk Ekonomi Pesantren \nNarasumber : Dr. Fathin Saifur Rahman\, S.T.\, M.T. \n  \n\nSabtu\, 04 Juni 2022 | 11:00 WIB\n\nMateri : PERUBAHAN IKLIM DAN KETAHANAN BENCANA | Listrik Darurat Dari Matahari \nNarasumber : Dr. Arwindra Rizqiawan\, S.T\, M.T. \n  \n\nMinggu\, 05 Juni 2022 | 10:00 WIB\n\nMateri : KETAHANAN PANGAN DAN KETAHANAN ENERGI | Energi Kekinian yang Ramah Lingkungan \nNarasumber : Jihad Furqani\, Ph.D \n  \nDaftar Sekarang di : linktr.ee/AkademikITB
URL:https://stei.itb.ac.id/event/open-house-tematik-program-studi-teknik-tenaga-listrik-dari-itb-untuk-indonesia/
CATEGORIES:Acara Institusi
ATTACH;FMTTYPE=image/png:https://stei.itb.ac.id/wp-content/uploads/Web-Event-Banner-1.png
END:VEVENT
BEGIN:VEVENT
DTSTART;TZID=Asia/Jakarta:20220409T090000
DTEND;TZID=Asia/Jakarta:20220409T120000
DTSTAMP:20260425T002505
CREATED:20220406T074456Z
LAST-MODIFIED:20220406T081406Z
UID:17939-1649494800-1649505600@stei.itb.ac.id
SUMMARY:STEI Virtual Open House 2022
DESCRIPTION:STEI Virtual Open House 2022 – Untuk semua siswa/i SMA calon Peserta SBMPTN/seleksi mandiri dan guru SMA \nSabtu\, 09 April 2022 \n09:00 – 12:00 WIB \nSegera Daftarkan diri anda dan dapatkan DOORPRIZE : DAFTAR DISINI \nJoin Zoom Meeting : KLIK DISINI \nUntuk Informasi yang lebih detail\, silahkan : KLIK DISINI
URL:https://stei.itb.ac.id/event/stei-virtual-open-house-2022/
CATEGORIES:Acara Institusi
ATTACH;FMTTYPE=image/jpeg:https://stei.itb.ac.id/wp-content/uploads/Web-Event-Banner.jpg
END:VEVENT
BEGIN:VEVENT
DTSTART;VALUE=DATE:20211005
DTEND;VALUE=DATE:20211007
DTSTAMP:20260425T002505
CREATED:20210503T073811Z
LAST-MODIFIED:20210804T012516Z
UID:11837-1633392000-1633564799@stei.itb.ac.id
SUMMARY:ICHVEPS 2021
DESCRIPTION:  \n \nThe 3rd International Conference on High Voltage Engineering and Power Systems 2021 (ICHVEPS 2021) will be held in Bandung (Virtual Conference)\, The Capital of West Java\, Indonesia 5-6 October 2021. This is a biannual conference organized by the School of Electrical Engineering and Informatics\, Institut Teknologi Bandung\, Indonesia and technically\nsponsored by IEEE Indonesia Section \, Power and Energy Society Indonesia Chapter and IEEE ITB Student Branch and supported by Indonesia Electrical Power Company (PT. PLN Persero). \nThe conference is designed to be an international forum for exchange ideas\, discussion and dissemination of research results and technologies in the field of High Voltage Engineering and Power Systems. The previous conference (The 1st ICHVEPS 2017) was held in Bali October 2017 and The 2nd ICHVEPS 2019 was held also in Bali October 2019. \nThe previous conferences was typically attended by 250 participants from 15 countries such as Indonesia\, Malaysia\, India\, Australia\, China\, Japan\, Taiwan\, Brunei Darussalam\, France\, Sweden\, USA\, Germany and Korea including a number of prominent invited speakers. \n3rd ICHVEPS 2021 cordially invites researchers\, professors\, faculty members as well as students from universities and researchers and practitioners from power utilities and industries all over the world to submit abstracts and papers to this conference. All accepted papers will be sent to IEEE Xplore (and Scopus) and selected papers will be recommended for publication in International Journal on Electrical Engineering and Informatics and Journal of Engineering and Technological Sciences. \n\n\n\nAbstract Submission :\nAugust 5\, 2021\n\n\nNotification :\nAugust 10\, 2021\n\n\nFull Paper Submission :\nAugust 15\, 2021
URL:https://stei.itb.ac.id/event/ichveps-2021/
CATEGORIES:Acara Institusi
ATTACH;FMTTYPE=image/jpeg:https://stei.itb.ac.id/wp-content/uploads/Web-Banner-ICHVEPS.jpg
END:VEVENT
BEGIN:VEVENT
DTSTART;VALUE=DATE:20210712
DTEND;VALUE=DATE:20210713
DTSTAMP:20260425T002505
CREATED:20210602T045349Z
LAST-MODIFIED:20210623T091110Z
UID:12374-1626048000-1626134399@stei.itb.ac.id
SUMMARY:International Virtual Courses: Renewable energy in power system: design\, planning\, and impacts
DESCRIPTION:International Virtual Courses\nRenewable energy in power system: design\, planning\, and impacts\nSchool of Electrical Engineering and Informatics & Universidad Tecnológica de Pereira\, Colombia \n\n\n\nDescription \nRenewable energy is a sustainable future for electrical energy generation. Utilization of renewable energy to produce more sustainable electrical energy requires knowledge of the aspects of the constituent elements\, planning\, and mitigating the impact on the existing electric power system. This International Virtual Course will provide student participants with insights into aspects related to the design\, planning and utilization of renewable energy from an electrical side. \n\n\n\n\n\n\nTimeline \n\n Registration: June 1st – July 2nd\, 2021\n Selection:  July 3rd-5th\, 2021\n Announcement:  July 6th\, 2021\n International Virtual Course  July 12nd– 30th\, 2021\n\n\n\n\n\n\n\nParticipants\nActive university student from overseas or local (MBKM Sasrabahu program participants are welcome) \nReward\n1. Certificate\n2. Course transcript (equivalent to 2 credit units) \nRequirements\n– Bachelor/master student\, proven with a student card and official letter from university\n– Motivation letter (one page) \n\n\n\n\n\n\nContact information\nCP: Kevin M. Banjarnahor\, Ph.D  (kevin@staff.stei.itb.ac.id)\nWebsite: s.id/IVCrenewables\nRegistration : bit.ly/IVC_Renewables
URL:https://stei.itb.ac.id/event/international-virtual-courses-renewable-energy-in-power-system-design-planning-and-impacts/
CATEGORIES:Acara Institusi
ATTACH;FMTTYPE=image/png:https://stei.itb.ac.id/wp-content/uploads/Artboard-1-100.jpg.png
END:VEVENT
BEGIN:VEVENT
DTSTART;TZID=Asia/Jakarta:20210528T100000
DTEND;TZID=Asia/Jakarta:20210528T110000
DTSTAMP:20260425T002505
CREATED:20210524T022959Z
LAST-MODIFIED:20210524T023450Z
UID:12144-1622196000-1622199600@stei.itb.ac.id
SUMMARY:Cyber Threat Intelligence Briefing 2021
DESCRIPTION:Tahun 2020 memecahkan rekor di sisi data yang hilang karena pelanggaran\, dan banyaknya serangan dunia maya terhadap perusahaan\, pemerintah\, dan individu. Selain itu\, kecanggihan ancaman pun meningkat dari penerapan teknologi seperti pembelajaran mesin\, kecerdasan buatan\, serta khususnya dari kerjasama di balik layar yang lebih kuat dari grup hacker serta pemain negara. Serangan Solar Winds attack menyoroti baik ancaman dan kecanggihan realitas tersebut. \nMemasuki tahun 2021\, statistik tersebut dan potensi implikasi keamanan siber dalam lanskap digital kita perlu ditelusuri. Webinar ini menghadirkan Shahnawaz Backer\, penasihat keamanan utama dari F5 Labs. Pada edisi ini\, webinar akan difokuskan pada: \nLanskap dan indikator ancaman untuk Indonesia (Jan hingga Maret). \n• Laporan singkat ancaman ASEAN di Dark Web dan domain organisasi tertentu.\n• Studi kasus tentang Penipuan Kolusi\, taktik yang digunakan untuk melawan bisnis platform.\n• Analisis pelanggaran API\n• Memerangi Penipuan Digital dengan Konvergensi Keamanan. \nRegistrasi dibuka di Http://s.id/CTIBREG
URL:https://stei.itb.ac.id/event/cyber-threat-intelligence-briefing-2021/
CATEGORIES:Acara Institusi,Acara Mitra
ATTACH;FMTTYPE=image/png:https://stei.itb.ac.id/wp-content/uploads/Web-Info-Webinar-CTIB.png
END:VEVENT
BEGIN:VEVENT
DTSTART;TZID=Asia/Jakarta:20210426T110000
DTEND;TZID=Asia/Jakarta:20210426T130000
DTSTAMP:20260425T002505
CREATED:20210406T065926Z
LAST-MODIFIED:20210407T025559Z
UID:11373-1619434800-1619442000@stei.itb.ac.id
SUMMARY:Distinguished Lecture: Data Mining and Machine Learning for Analysis of Network Traffic
DESCRIPTION:Distinguished Lecture:\nData Mining and Machine Learning for Analysis of Network Traffic\nCollection and analysis of data from deployed networks is essential for understanding modern communication networks. Data mining and statistical analysis of network data are often employed to determine traffic loads\, analyze patterns of users’ behavior\, and predict future network traffic while various machine learning techniques proved valuable for predicting anomalous traffic behavior. In described case studies\, traffic traces collected from various deployed networks and the Internet are used to characterize and model network traffic\, analyze Internet topologies\, and classify network anomalies. \nAbout Ljiljana Trajkovic \nSimon Fraser University\, Canada  \nLjiljana Trajkovic received the Dipl. Ing. degree from University of Pristina\, Yugoslavia\, in 1974\, M.Sc. degrees in electrical engineering and computer engineering from Syracuse University\, Syracuse\, NY\, in 1979 and 1981\, respectively\, and a Ph.D. degree in electrical engineering from University of California at Los Angeles\, in 1986.   \nShe is currently a Professor in the School of Engineering Science at Simon Fraser University\, Burnaby\, British Columbia\, Canada. From 1995 to 1997\, she was a National Science Foundation (NSF) Visiting Professor in the Electrical Engineering and Computer Sciences Department\, University of California\, Berkeley. She was a Research Scientist at Bell Communications Research\, Morristown\, NJ\, from 1990 to 1997\, and a Member of the Technical Staff at AT&T Bell Laboratories\, Murray Hill\, NJ\, from 1988 to 1990. Her research interests include high-performance communication networks\, control of communication systems\, computer-aided circuit analysis and design\, and theory of nonlinear circuits and dynamical systems.   \nDr. Trajkovic served as IEEE Division X Delegate/Director (2019 2020) and IEEE Division X Delegate-Elect/Director-Elect (2018). She served as Senior Past President (20182019)\, Junior Past President (2016 2017)\, President (2014 2015)\, President-Elect (2013)\, Vice President Publications (2012 2013\, 2010 2011)\, Vice President Long-Range Planning and Finance (20082009)\, and a Member at Large of the Board of Governors (2004 2006) of the IEEE Systems\, Man\, and Cybernetics Society.  \nShe served as 2007 President of the IEEE Circuits and Systems Society and a member of its Board of Governors (2004-2005\, 2001-2003).  \nShe is Chair of the IEEE Circuits and Systems Society joint Chapter of the Vancouver/Victoria Sections. She was Chair of the IEEE Technical Committee on Nonlinear Circuits and Systems (1998). She was General Co-Chair of SMC 2020 and SMC 2020 Workshop on BMI Systems and served as General Co-Chair of SMC 2019 and SMC 2018 Workshops on BMI Systems\, SMC 2016\, and HPSR 2014\, Special Sessions Co-Chair of SMC 2017\, Technical Program Chair of SMC 2017 and SMC 2016 Workshops on BMI Systems\, Technical Program Co-Chair of ISCAS 2005\, and Technical Program Chair and Vice General Co-Chair of ISCAS 2004.  \nShe served as an Associate Editor of the IEEE Transactions on Circuits and Systems (Part I) (2004 2005\, 19931995)\, the IEEE Transactions on Circuits and Systems (Part II) (2018\, 2002 2003\, 19992001)\, and the IEEE Circuits and Systems Magazine (2001 2003). She is a Distinguished Lecturer of the IEEE Systems\, Man\, and Cybernetics Society (2020 2021) and the IEEE Circuits and Systems Society (2020 2021\, 2010 2011\, 2002 2003).  \nShe is a Professional Member of IEEE-HKN and a Life Fellow of the IEEE.   \nVIEW CV – REGISTER HERE
URL:https://stei.itb.ac.id/event/distinguished-lecture-data-mining-and-machine-learning-for-analysis-of-network-traffic/
CATEGORIES:Acara Institusi
ATTACH;FMTTYPE=image/jpeg:https://stei.itb.ac.id/wp-content/uploads/Web-Info-Distinguished-Lecture.jpg
END:VEVENT
BEGIN:VEVENT
DTSTART;VALUE=DATE:20210115
DTEND;VALUE=DATE:20210118
DTSTAMP:20260425T002505
CREATED:20210117T213534Z
LAST-MODIFIED:20210221T043053Z
UID:10260-1610668800-1610927999@stei.itb.ac.id
SUMMARY:Open House ITB 2021
DESCRIPTION:Direktorat Pendidikan ITB menyelenggarakan Open House Virtual ITB secara daring (online)\, yang akan berlangsung sesuai jadwal berikut : \nHari\, Tanggal   : Jumat – Minggu\, 15 – 17 Januari 2021\nWaktu             : 13.30 – 16.30 WIB (Jumat) dan 08.00 – 16.00 WIB (Sabtu dan Minggu)\nTempat           : https://virtualopenhouse.itb.ac.id/ (dapat diakses mulai Jumat\, 15 Januari 2021\, pukul 13.30 WIB) \nKegiatan ini terbuka untuk umum dan tidak dipungut biaya.  \nOpen House Virtual ITB tersebut akan menyajikan pameran virtual dan webminar mengenai Sistem Penerimaan Mahasiswa Baru ITB tahun 2021\, Informasi mengenai program studi-program studi di masing-masing fakultas/sekolah di ITB\, serta informasi mengenai beasiswa dan kegiatan kemahasiswaan ITB. Open House Virtual ITB terbuka untuk umum dan tidak dipungut biaya. \nInformasi lebih lanjut terkait pelaksanaan Open House Virtual ITB dapat diperoleh di alamat https://www.instagram.com/usm.itb/.
URL:https://stei.itb.ac.id/event/open-house-itb-2021/
CATEGORIES:Acara Institusi
ATTACH;FMTTYPE=image/jpeg:https://stei.itb.ac.id/wp-content/uploads/web-event.jpg
END:VEVENT
BEGIN:VEVENT
DTSTART;TZID=UTC:20210114T133000
DTEND;TZID=UTC:20210114T153000
DTSTAMP:20260425T002505
CREATED:20210117T220251Z
LAST-MODIFIED:20210221T043137Z
UID:10262-1610631000-1610638200@stei.itb.ac.id
SUMMARY:Pengarahan Mahasiswa Baru Pascasarjana
DESCRIPTION:Pengarahan Mahasiswa Baru Pascasarjana STEI\nSemester 2 Tahun Ajaran 2020/2021 \nakan diadakan secara daring\, pada hari Kamis\, 14 Januari 2021 (13:30 WIB-15:30 WIB).\nlink untuk zoom meeting dapat dicek di SPS atau TU Program Studi. \nAcara ini juga dapat disaksikan secara live melalui kanal YouTube STEI ITB.
URL:https://stei.itb.ac.id/event/pengarahan-mahasiswa-baru-pascasarjana/
CATEGORIES:Acara Institusi
ATTACH;FMTTYPE=image/jpeg:https://stei.itb.ac.id/wp-content/uploads/Pengenalan-Mahasiswa-Baru-Pasca.jpg
END:VEVENT
END:VCALENDAR