BEGIN:VCALENDAR
VERSION:2.0
PRODID:-//STEI - ECPv6.15.20//NONSGML v1.0//EN
CALSCALE:GREGORIAN
METHOD:PUBLISH
X-WR-CALNAME:STEI
X-ORIGINAL-URL:https://stei.itb.ac.id
X-WR-CALDESC:Events for STEI
REFRESH-INTERVAL;VALUE=DURATION:PT1H
X-Robots-Tag:noindex
X-PUBLISHED-TTL:PT1H
BEGIN:VTIMEZONE
TZID:Asia/Jakarta
BEGIN:STANDARD
TZOFFSETFROM:+0700
TZOFFSETTO:+0700
TZNAME:WIB
DTSTART:20250101T000000
END:STANDARD
END:VTIMEZONE
BEGIN:VEVENT
DTSTART;VALUE=DATE:20260303
DTEND;VALUE=DATE:20260430
DTSTAMP:20260423T180509
CREATED:20260317T030706Z
LAST-MODIFIED:20260317T030706Z
UID:29451-1772496000-1777507199@stei.itb.ac.id
SUMMARY:Pendaftaran Mahasiswa Baru Semester Ganjil Program Pascasarjana\, Program Profesi Apoteker dan Program Profesi Gelombang 1
DESCRIPTION:
URL:https://stei.itb.ac.id/event/pendaftaran-mahasiswa-baru-semester-ganjil-program-pascasarjana-program-profesi-apoteker-dan-program-profesi-gelombang-1/
END:VEVENT
BEGIN:VEVENT
DTSTART;VALUE=DATE:20260423
DTEND;VALUE=DATE:20260424
DTSTAMP:20260423T180509
CREATED:20260422T131540Z
LAST-MODIFIED:20260422T132225Z
UID:29759-1776902400-1776988799@stei.itb.ac.id
SUMMARY:Kunjungan Institut Teknologi Del (IT Del)
DESCRIPTION:
URL:https://stei.itb.ac.id/event/kunjungan-institut-teknologi-del-it-del-ke-program-studi-teknik-telekomunikasi-stei/
END:VEVENT
BEGIN:VEVENT
DTSTART;TZID=Asia/Jakarta:20260423T080000
DTEND;TZID=Asia/Jakarta:20260423T100000
DTSTAMP:20260423T180509
CREATED:20260422T132535Z
LAST-MODIFIED:20260422T132535Z
UID:29766-1776931200-1776938400@stei.itb.ac.id
SUMMARY:Kuliah Tamu IF5251 AI in Production dengan topik Scaling production-ready (LLM)
DESCRIPTION:
URL:https://stei.itb.ac.id/event/kuliah-tamu-if5251-ai-in-production-dengan-topik-scaling-production-ready-llm/
END:VEVENT
BEGIN:VEVENT
DTSTART;TZID=Asia/Jakarta:20260423T130000
DTEND;TZID=Asia/Jakarta:20260423T153000
DTSTAMP:20260423T180509
CREATED:20260422T131711Z
LAST-MODIFIED:20260422T131711Z
UID:29761-1776949200-1776958200@stei.itb.ac.id
SUMMARY:Kunjungan The University of Queensland
DESCRIPTION:
URL:https://stei.itb.ac.id/event/kunjungan-the-university-of-queensland/
CATEGORIES:Acara Institusi
END:VEVENT
END:VCALENDAR