BEGIN:VCALENDAR
VERSION:2.0
PRODID:-//STEI - ECPv6.15.20//NONSGML v1.0//EN
CALSCALE:GREGORIAN
METHOD:PUBLISH
X-WR-CALNAME:STEI
X-ORIGINAL-URL:https://stei.itb.ac.id
X-WR-CALDESC:Events for STEI
REFRESH-INTERVAL;VALUE=DURATION:PT1H
X-Robots-Tag:noindex
X-PUBLISHED-TTL:PT1H
BEGIN:VTIMEZONE
TZID:Asia/Jakarta
BEGIN:STANDARD
TZOFFSETFROM:+0700
TZOFFSETTO:+0700
TZNAME:WIB
DTSTART:20240101T000000
END:STANDARD
END:VTIMEZONE
BEGIN:VEVENT
DTSTART;TZID=Asia/Jakarta:20251113T080000
DTEND;TZID=Asia/Jakarta:20251115T170000
DTSTAMP:20260423T165142
CREATED:20250529T020637Z
LAST-MODIFIED:20250808T013705Z
UID:24731-1763020800-1763226000@stei.itb.ac.id
SUMMARY:Call for Papers – ICEEI 2025
DESCRIPTION:[vc_row css=”.vc_custom_1748484394856{margin-bottom: 30px !important;}”][vc_column][vc_column_text]📢 Call for Papers – ICEEI 2025\n10th International Conference on Electrical Engineering and Informatics\n📅 13–15 November 2025\n📍 Kuching\, Sarawak\, Malaysia\n🌐 Website: https://ftsm.ukm.my/iceei2025/ \nThe Faculty of Information Science and Technology (FTSM)\, Universiti Kebangsaan Malaysia (UKM)\, in collaboration with the Institut Teknologi Bandung\, Indonesia\, is pleased to announce the 10th International Conference on Electrical Engineering and Informatics (ICEEI 2025). This conference aims to provide a platform for researchers\, engineers\, academicians\, and industry professionals to share their research findings and innovations in the fields of electrical engineering and informatics. \n📚 Conference Topics\nICEEI 2025 invites original and unpublished papers on\, but not limited to\, the following topics: \nElectrical Engineering: Power Systems\, Renewable Energy\, Smart Grids\, Electrical Machines\, Power Electronics\, Biomedical Engineering\, Remote sensing and Geospatial Engineering\, RF and Satellite System\, Embedded Systems\, Sensors and Actuators\, Control Systems\, Robotics \nInformatics: Cyber Security\, Artificial Intelligence Technology\, Machine Learning\, Data Science\, Software Engineering\, Information Systems\, Wireless Communications\, Network Security\, Internet of Things (IoT)\, 5G/6G Technologies\, Computer Architecture\, Parallel and Distributed Computing\, Cloud Computing\, Cybersecurity \n📝 Paper Submission\nSubmission Deadline: 30 June 2025 \nNotification of Acceptance: From 1 July 2025\nCamera-Ready Submission: [Insert Date]\nCamera-ready Due 1 August 2025\nEarly-bird Registration Due: 15 August 2025\nRegistration Deadline: 30 August 2025\nConference: 13-15 November 2025\nSubmission Link: https://easychair.org/account2/signin_timeout?l=1589957741911772706 \nAll submissions must be in English and will undergo a double-blind peer-review process. Accepted papers will be published in the conference proceedings and submitted for inclusion in IEEE Xplore\, and based on high review scores\, 50 extended papers will be selected for publication in the following SCOPUS-indexed journals:\nAsia-Pacific Journal of Information Technology and Multimedia (APJITM)\nJournal of Engineering and Technological Sciences (JETS)[/vc_column_text][/vc_column][/vc_row][vc_row][vc_column][vc_single_image image=”25886″ img_size=”Large” alignment=”center” css=””][/vc_column][/vc_row]
URL:https://stei.itb.ac.id/event/call-for-papers-iceei-2025/
END:VEVENT
END:VCALENDAR