BEGIN:VCALENDAR
VERSION:2.0
PRODID:-//STEI - ECPv6.15.20//NONSGML v1.0//EN
CALSCALE:GREGORIAN
METHOD:PUBLISH
X-WR-CALNAME:STEI
X-ORIGINAL-URL:https://stei.itb.ac.id
X-WR-CALDESC:Events for STEI
REFRESH-INTERVAL;VALUE=DURATION:PT1H
X-Robots-Tag:noindex
X-PUBLISHED-TTL:PT1H
BEGIN:VTIMEZONE
TZID:Asia/Jakarta
BEGIN:STANDARD
TZOFFSETFROM:+0700
TZOFFSETTO:+0700
TZNAME:WIB
DTSTART:20240101T000000
END:STANDARD
END:VTIMEZONE
BEGIN:VEVENT
DTSTART;TZID=Asia/Jakarta:20250919T130000
DTEND;TZID=Asia/Jakarta:20250919T150000
DTSTAMP:20260426T023504
CREATED:20250815T042547Z
LAST-MODIFIED:20250916T043733Z
UID:26180-1758286800-1758294000@stei.itb.ac.id
SUMMARY:General Lecture at ITB: 5G & AI Technology Trend - Explore the Future of Digital Innovation with 5G and AI
DESCRIPTION:STEI ITB menyelenggarakan kuliah umum bertajuk “5G & AI Technology Trend: Explore the Future of Digital Innovation with 5G and AI” yang menghadirkan Daniel Ode\, President Director Ericsson Indonesia\, Singapore\, Philippines\, and Brunei\, sebagai pembicara. \nAcara ini akan berlangsung pada:📅 Jumat\, 19 September 2025🕐 Pukul 13.00 – 15.00 WIB📍 Smart Classroom\, Labtek VIII Lantai 4\, ITB Ganesha \nMelalui kuliah umum ini\, peserta akan mendapatkan wawasan berharga mengenai tren terkini 5G dan Artificial Intelligence (AI)\, serta penerapannya di berbagai industri. Selain itu\, acara ini juga menjadi kesempatan untuk menggali peluang karier masa depan di sektor digital dan teknologi. \nSasaran Peserta\nMahasiswa ITB (S1 & Pascasarjana)\nDosen dan peneliti di bidang ICT\, Teknik Elektro\, serta Kebijakan Publik\nSiapa saja yang memiliki minat pada teknologi digital\, inovasi\, dan jalur karier di bidang ini \nMengapa Perlu Hadir?\nMendapatkan insight terbaru mengenai tren 5G dan AI\nMengetahui penerapan nyata di berbagai sektor industri\nBelajar tentang peluang karier di sektor teknologi digital dan inovasi \nAcara ini gratis dan terbuka untuk seluruh mahasiswa ITB. Jangan lewatkan kesempatan untuk belajar langsung dari pemimpin industri global dan mendapatkan inspirasi untuk masa depan digital Anda!
URL:https://stei.itb.ac.id/event/general-lecture-at-itb-5g-ai-technology-trend-explore-the-future-of-digital-innovation-with-5g-and-ai/
END:VEVENT
END:VCALENDAR