BEGIN:VCALENDAR
VERSION:2.0
PRODID:-//STEI - ECPv6.15.20//NONSGML v1.0//EN
CALSCALE:GREGORIAN
METHOD:PUBLISH
X-ORIGINAL-URL:https://stei.itb.ac.id
X-WR-CALDESC:Events for STEI
REFRESH-INTERVAL;VALUE=DURATION:PT1H
X-Robots-Tag:noindex
X-PUBLISHED-TTL:PT1H
BEGIN:VTIMEZONE
TZID:Asia/Jakarta
BEGIN:STANDARD
TZOFFSETFROM:+0700
TZOFFSETTO:+0700
TZNAME:WIB
DTSTART:20210101T000000
END:STANDARD
END:VTIMEZONE
BEGIN:VEVENT
DTSTART;TZID=Asia/Jakarta:20220825T200000
DTEND;TZID=Asia/Jakarta:20220825T213000
DTSTAMP:20260419T204249
CREATED:20220819T081616Z
LAST-MODIFIED:20220819T081616Z
UID:18583-1661457600-1661463000@stei.itb.ac.id
SUMMARY:Digital Transformation Towards SMART-X batch 02
DESCRIPTION:Digital Transformation Towards SMART-X batch 02 secara daring pada: \nHari/tanggal : Kamis\, 25 Agustus 2022\nPukul : 20.00 – 21.30 WIB\nTautan : https://bit.ly/zoom-smartx-02\nMeeting ID : 916 5446 2220\nPasscode : 705264 \nJudul Topik : Transformasi Digital menuju SMART BANKING\nPembicara I : Dr. Indra Utoyo\n(Direktur Utama PT. Allo Bank Indonesia Tbk. – Dosen Industri STEI ITB) \nJudul Topik : Smart System dalam Industri Finansial\nPembicara II : Dr. Ir. Arry Akhmad Arman\, M.T.\n(Dosen Sekolah Teknik Elektro dan Informatika\, ITB) \nHost : Prof. Dr. Ir. Suhono Harso Supangkat\, M.Eng.\n(Dosen Pengampu MK Keprofesian STI – Ketua KK TI ITB) \nTerbuka Untuk Umum\nRegistrasi : https://bit.ly/daftar-smartx-02\nSertifikat akan diberikan kepada peserta yang terdaftar dan hadir saat kegiatan berlangsung.
URL:https://stei.itb.ac.id/event/digital-transformation-towards-smart-x-batch-02/
ATTACH;FMTTYPE=image/jpeg:https://stei.itb.ac.id/wp-content/uploads/Web-Event-Banner-3.jpg
END:VEVENT
END:VCALENDAR