BEGIN:VCALENDAR
VERSION:2.0
PRODID:-//STEI - ECPv6.15.20//NONSGML v1.0//EN
CALSCALE:GREGORIAN
METHOD:PUBLISH
X-ORIGINAL-URL:https://stei.itb.ac.id
X-WR-CALDESC:Events for STEI
REFRESH-INTERVAL;VALUE=DURATION:PT1H
X-Robots-Tag:noindex
X-PUBLISHED-TTL:PT1H
BEGIN:VTIMEZONE
TZID:Asia/Jakarta
BEGIN:STANDARD
TZOFFSETFROM:+0700
TZOFFSETTO:+0700
TZNAME:WIB
DTSTART:20210101T000000
END:STANDARD
END:VTIMEZONE
BEGIN:VEVENT
DTSTART;TZID=Asia/Jakarta:20220520T090000
DTEND;TZID=Asia/Jakarta:20220520T100000
DTSTAMP:20260425T195945
CREATED:20220517T075647Z
LAST-MODIFIED:20220517T075647Z
UID:18004-1653037200-1653040800@stei.itb.ac.id
SUMMARY:BinAAR #3 - Deteksi Fenomena Prakegagalan Peralatan Listrik Tegangan Tinggi
DESCRIPTION:BinAAR (Bincang Akademik\, Abdimas\, dan Riset) #3 – Deteksi Fenomena Prakegagalan Peralatan Listrik Tegangan Tinggi \nNarasumber : Dr. Umar Khayam\,ST.\,MT.\,IPM. \nModerator : Dr.Eng. Infall Syafalni\, ST.\,M.Sc. \nJumat\, 20 Mei 2022 \n09:00 – 10:00 WIB \nJoin Zoom Meeting : Klik Disini \nMeeting ID: 975 9419 6156\nPasscode: 818714
URL:https://stei.itb.ac.id/event/binaar-3-deteksi-fenomena-prakegagalan-peralatan-listrik-tegangan-tinggi/
ATTACH;FMTTYPE=image/png:https://stei.itb.ac.id/wp-content/uploads/BinAAR-3.png
END:VEVENT
END:VCALENDAR