BEGIN:VCALENDAR
VERSION:2.0
PRODID:-//STEI - ECPv6.15.20//NONSGML v1.0//EN
CALSCALE:GREGORIAN
METHOD:PUBLISH
X-WR-CALNAME:STEI
X-ORIGINAL-URL:https://stei.itb.ac.id
X-WR-CALDESC:Events for STEI
REFRESH-INTERVAL;VALUE=DURATION:PT1H
X-Robots-Tag:noindex
X-PUBLISHED-TTL:PT1H
BEGIN:VTIMEZONE
TZID:Asia/Jakarta
BEGIN:STANDARD
TZOFFSETFROM:+0700
TZOFFSETTO:+0700
TZNAME:WIB
DTSTART:20210101T000000
END:STANDARD
END:VTIMEZONE
BEGIN:VEVENT
DTSTART;TZID=Asia/Jakarta:20220221T080000
DTEND;TZID=Asia/Jakarta:20220221T110000
DTSTAMP:20260422T062742
CREATED:20220216T011205Z
LAST-MODIFIED:20220216T011338Z
UID:17366-1645430400-1645441200@stei.itb.ac.id
SUMMARY:Kuliah Tamu: Tales Of Developer's Common Mistake\, Securing Application From Security Testing Point Of View
DESCRIPTION:Kuliah Tamu : Tales Of Developer’s Common Mistake\, Securing Application From Security Testing Point Of View \nSenin\, 21 Februari 2022 \n08:00 – 11:00 WIB \nDaftar di https://s.id/kuliahtamu_steiitb
URL:https://stei.itb.ac.id/event/kuliah-tamu-tales-of-developers-common-mistake-securing-application-from-security-testing-point-of-view/
ATTACH;FMTTYPE=image/png:https://stei.itb.ac.id/wp-content/uploads/KT_YOKO-KHO_WEB-POSTER.png
END:VEVENT
END:VCALENDAR